BEGIN:VCALENDAR
VERSION:2.0
PRODID:icalendar-ruby
CALSCALE:GREGORIAN
METHOD:PUBLISH
BEGIN:VEVENT
DTSTAMP:20260420T071449Z
UID:5-398150@peacelutheranknoxville.org
DTSTART:20261011T140000Z
DTEND:20261011T150000Z
CLASS:PUBLIC
CREATED:20260420T001720
DESCRIPTION:Sunday Worship
LAST-MODIFIED:20260420T001720
LOCATION:
SUMMARY:Sunday Worship
URL;VALUE=URI:https://peacelutheranknoxville.org/events/sunday-worship/2026
 -10-11
END:VEVENT
END:VCALENDAR
